BEGIN:VCALENDAR
VERSION:2.0
PRODID:-// - ECPv6.3.2//NONSGML v1.0//EN
CALSCALE:GREGORIAN
METHOD:PUBLISH
X-ORIGINAL-URL:https://saintmartindecastillon.fr
X-WR-CALDESC:évènements pour 
REFRESH-INTERVAL;VALUE=DURATION:PT1H
X-Robots-Tag:noindex
X-PUBLISHED-TTL:PT1H
BEGIN:VTIMEZONE
TZID:Europe/Paris
BEGIN:DAYLIGHT
TZOFFSETFROM:+0100
TZOFFSETTO:+0200
TZNAME:CEST
DTSTART:20260329T010000
END:DAYLIGHT
BEGIN:STANDARD
TZOFFSETFROM:+0200
TZOFFSETTO:+0100
TZNAME:CET
DTSTART:20261025T010000
END:STANDARD
END:VTIMEZONE
BEGIN:VEVENT
DTSTART;TZID=Europe/Paris:20260424T190000
DTEND;TZID=Europe/Paris:20260424T230000
DTSTAMP:20260424T013427
CREATED:20260421T155900Z
LAST-MODIFIED:20260421T155958Z
UID:9538-1777057200-1777071600@saintmartindecastillon.fr
SUMMARY:La bifurK "YANNIKEU NI TÊTE"DJ SET
DESCRIPTION:( Post punk / New wave Ska ) \n\n\n\nL’homme à la vinylothèque la plus fournie & pointue du Nord Lub…et bien au-delà !!Des classiques aux perles rares\, un dance-floor qui s’annonce savoureux \n\n\n\n ☆Chapeau Bienvenu☆  \n\n\n\nPlanches apéro ☆13€☆   \n\n\n\n\n\n\n\n☆La bifurK☆0760930356
URL:https://saintmartindecastillon.fr/event/la-bifurk-yannikeu-ni-tetedj-set/
ATTACH;FMTTYPE=image/jpeg:https://saintmartindecastillon.fr/wp-content/uploads/2026/04/WhatsApp-Image-2026-04-21-at-17.06.31.jpeg
END:VEVENT
END:VCALENDAR